BEGIN:VCALENDAR
VERSION:2.0
CALSCALE:GREGORIAN
METHOD:PUBLISH
PRODID://WILD//100457
BEGIN:VEVENT
DTSTAMP:20260422T121707
VTIMEZONE:America/Chicago
DTSTART:20200728T170000Z
DTEND:20200728T181500Z
UID:100457
SUMMARY:Women's Leadership in the Post-COVID-19 Workplace
LOCATION:Virtual - Details to follow
DESCRIPTION:Women's Leadership in the Post-COVID-19 Workplace\n\n07/28/20 12:00 PM CST\n - 07/28/20 01:15 PM CST\Description:\nPlease join CME Group’s employee networking groups WIN and WIT, and WILD women around the world on July 28 for an interactive discussion on the impact COVID-19 has had on the workplace and the leadership role women can play in redefining the future of work.\n \nJoin WILD’s Simta Gupta, VP of Operations at ADM Investor Services, and CME Group’s Bethany Netzel, Managing Director, Business Continuity Management Team, for a forum to discuss the recent shift. The goal is to inform our members and help them be thought leaders on what the future holds for their workplaces.\n \nFollowing opening remarks, attendees will move into breakout sessions to explore related topics including company and culture, collaboration, technology, management perspectives, and networking in a virtual world. Attendees will then reconvene to share key takeaways.\n \nFor more information, please email events@cmegroup.com if you have any questions.\n \n***Please note that CME Group is generously providing the online event technology, therefore, your registration details will be shared with CME Group’s Events Team.***\Location:\nVirtual - Details to follow\n\n,
X-ALT-DESC;FMTTYPE=text/html:Women's Leadership in the Post-COVID-19 Workplace<br /><br />07/28/20 12:00 PM CST - 07/28/20 01:15 PM CST<br />Description:<br />Please join CME Group&rsquo;s employee networking groups WIN and WIT, and WILD women around the world on July 28&nbsp;for an interactive discussion on the impact COVID-19 has had on the workplace and the leadership role women can play in redefining the future of work.<br />
&nbsp;<br />
Join <strong>WILD&rsquo;s Simta Gupta, </strong>VP of Operations at ADM Investor Services, and <strong>CME Group&rsquo;s Bethany Netzel, </strong>Managing Director, Business Continuity Management Team, for a forum to discuss the recent shift. The goal is to inform our members and help them be thought leaders on what the future holds for their workplaces.<br />
&nbsp;<br />
Following opening remarks, attendees will move into breakout sessions to explore related topics including company and culture, collaboration, technology, management perspectives, and networking in a virtual world. Attendees will then reconvene to share key takeaways.<br />
&nbsp;<br />
For more information, please email <a href="mailto:events@cmegroup.com">events@cmegroup.com</a> if you have any questions.<br />
&nbsp;<br />
<strong>***Please note that CME Group is generously providing the online event technology, therefore, your registration details will be shared with CME Group&rsquo;s Events Team.***</strong><br />Location:<br />Virtual - Details to follow<br /><br />,  
PRIORITY:3
TRANSP:TRANSPARENT
BEGIN:VALARM
TRIGGER:-PT5M
ACTION:DISPLAY
DESCRIPTION:Reminder
END:VALARM
END:VEVENT
END:VCALENDAR
